BEGIN:VCALENDAR
VERSION:2.0
PRODID:-//Caribbean Bar Association - ECPv6.15.20//NONSGML v1.0//EN
CALSCALE:GREGORIAN
METHOD:PUBLISH
X-WR-CALNAME:Caribbean Bar Association
X-ORIGINAL-URL:https://caribbeanbar.org
X-WR-CALDESC:Events for Caribbean Bar Association
REFRESH-INTERVAL;VALUE=DURATION:PT1H
X-Robots-Tag:noindex
X-PUBLISHED-TTL:PT1H
BEGIN:VTIMEZONE
TZID:UTC
BEGIN:STANDARD
TZOFFSETFROM:+0000
TZOFFSETTO:+0000
TZNAME:UTC
DTSTART:20220101T000000
END:STANDARD
END:VTIMEZONE
BEGIN:VEVENT
DTSTART;TZID=UTC:20250111T100000
DTEND;TZID=UTC:20250111T140000
DTSTAMP:20260423T054543
CREATED:20250101T171849Z
LAST-MODIFIED:20250101T171849Z
UID:5374-1736589600-1736604000@caribbeanbar.org
SUMMARY:CBA and Miami-Dade Office Housing  Authority Housing & Eviction Clinic
DESCRIPTION:
URL:https://caribbeanbar.org/event/cba-and-miami-dade-office-housing-authority-housing-eviction-clinic/
LOCATION:Father Gerard Jean-Juste Community Center\, 690 NE 159th Street\, Miami\, FL\, 33162\, United States
CATEGORIES:Community Outreach
ATTACH;FMTTYPE=image/png:https://caribbeanbar.org/wp-content/uploads/2025/01/Screenshot-2024-12-17-101514.png
ORGANIZER;CN="Miami Dade Office of Housing Advocacy":MAILTO:housingadvocacy@miamidade.gov
END:VEVENT
BEGIN:VEVENT
DTSTART;TZID=UTC:20241207T080000
DTEND;TZID=UTC:20241207T170000
DTSTAMP:20260423T054543
CREATED:20241126T001328Z
LAST-MODIFIED:20241126T001328Z
UID:5362-1733558400-1733590800@caribbeanbar.org
SUMMARY:Jamaican Consulate General in Miami Presents South Florida Caribbean Chorale's Christmas Chorale
DESCRIPTION:
URL:https://caribbeanbar.org/event/jamaican-consulate-general-in-miami-presents-south-florida-caribbean-chorales-christmas-chorale/
LOCATION:Plantation United Methodist Church\, 1001 NW 70th Avenue\, Plantation\, FL\, 33313\, United States
ATTACH;FMTTYPE=image/png:https://caribbeanbar.org/wp-content/uploads/2024/11/Screenshot-2024-11-19-144545.png
END:VEVENT
BEGIN:VEVENT
DTSTART;TZID=UTC:20241205T183000
DTEND;TZID=UTC:20241205T183000
DTSTAMP:20260423T054543
CREATED:20241126T000520Z
LAST-MODIFIED:20241126T000520Z
UID:5357-1733423400-1733423400@caribbeanbar.org
SUMMARY:Joint VBA's Holiday Mixer and Toy Drive
DESCRIPTION:
URL:https://caribbeanbar.org/event/joint-vbas-holiday-mixer-and-toy-drive/
LOCATION:Little Haiti Cultural Center Marketplace\, 212 NE 59th Terrace\, Miami\, FL\, 33137\, United States
ATTACH;FMTTYPE=image/png:https://caribbeanbar.org/wp-content/uploads/2024/11/Holday-Mixer.png
ORGANIZER;CN="CBA":MAILTO:caribbeanbarassociation@gmail.com
END:VEVENT
BEGIN:VEVENT
DTSTART;TZID=UTC:20241205T120000
DTEND;TZID=UTC:20241205T130000
DTSTAMP:20260423T054543
CREATED:20241126T001530Z
LAST-MODIFIED:20241126T001530Z
UID:5366-1733400000-1733403600@caribbeanbar.org
SUMMARY:FREE CLE - Perspectives on Professionalism   From your Office to Tallahassee
DESCRIPTION:Register Today
URL:https://caribbeanbar.org/event/free-cle-perspectives-on-professionalism-from-your-office-to-tallahassee/
LOCATION:Zoom
ATTACH;FMTTYPE=image/jpeg:https://caribbeanbar.org/wp-content/uploads/2024/11/Professionalism-CLE.jpg
END:VEVENT
BEGIN:VEVENT
DTSTART;TZID=UTC:20241126T170000
DTEND;TZID=UTC:20241126T190000
DTSTAMP:20260423T054543
CREATED:20241126T001926Z
LAST-MODIFIED:20241126T001926Z
UID:5369-1732640400-1732647600@caribbeanbar.org
SUMMARY:Organization of Commonwealth  Caribbean Bar Association's  Distinguished Lecture Series
DESCRIPTION:Register to Attend Via Zoom
URL:https://caribbeanbar.org/event/organization-of-commonwealth-caribbean-bar-associations-distinguished-lecture-series/
LOCATION:Zoom
ATTACH;FMTTYPE=image/png:https://caribbeanbar.org/wp-content/uploads/2024/11/Caribbean-Court-of-Justice.png
END:VEVENT
BEGIN:VEVENT
DTSTART;TZID=UTC:20241107T120000
DTEND;TZID=UTC:20241107T130000
DTSTAMP:20260423T054543
CREATED:20241028T135146Z
LAST-MODIFIED:20241028T135146Z
UID:5030-1730980800-1730984400@caribbeanbar.org
SUMMARY:Corporate Transparency Act: What Law Firms Need to Know Now Before the End of the This Year!
DESCRIPTION:Register Today
URL:https://caribbeanbar.org/event/corporate-transparency-act-what-law-firms-need-to-know-now-before-the-end-of-the-this-year/
LOCATION:Zoom
CATEGORIES:Education,General Event
ATTACH;FMTTYPE=image/png:https://caribbeanbar.org/wp-content/uploads/2024/10/CTA-CLE-Flyer.png
ORGANIZER;CN="CBA":MAILTO:caribbeanbarassociation@gmail.com
END:VEVENT
BEGIN:VEVENT
DTSTART;TZID=UTC:20241026T190000
DTEND;TZID=UTC:20241026T230000
DTSTAMP:20260423T054543
CREATED:20240523T154445Z
LAST-MODIFIED:20240830T203502Z
UID:4958-1729969200-1729983600@caribbeanbar.org
SUMMARY:Annual Scholarship & Awards Gala
DESCRIPTION:Get Your Gala Tickets Today \nCBA 2024 Gala Sponsorship Form
URL:https://caribbeanbar.org/event/annual-scholarship-awards-gala/
LOCATION:Hard Rock Hotel & Casino\, 1 Seminole Way\, Hollywood\, FL\, 33314\, United States
CATEGORIES:Networking,Signature Event
ATTACH;FMTTYPE=image/jpeg:https://caribbeanbar.org/wp-content/uploads/2024/05/Gala-Flyer.jpg
ORGANIZER;CN="CBA":MAILTO:caribbeanbarassociation@gmail.com
END:VEVENT
BEGIN:VEVENT
DTSTART;TZID=UTC:20241005T080000
DTEND;TZID=UTC:20241005T170000
DTSTAMP:20260423T054543
CREATED:20240829T160621Z
LAST-MODIFIED:20240917T132739Z
UID:5023-1728115200-1728147600@caribbeanbar.org
SUMMARY:Housing and Eviction Clinic - Miami-Dade
DESCRIPTION:
URL:https://caribbeanbar.org/event/housing-and-eviction-clinic-miami-dade/
LOCATION:Miami Dade Public Library – Model City Branch\, 2211 NW 54th St\, Miami\, FL\, 33142\, United States
CATEGORIES:Community Outreach,General Event
ATTACH;FMTTYPE=image/jpeg:https://caribbeanbar.org/wp-content/uploads/2024/08/379-2324-130269-OHA-Fall-Housing-and-Eviction-Clinic-Flyer-v08-scaled.jpg
ORGANIZER;CN="CBA":MAILTO:caribbeanbarassociation@gmail.com
END:VEVENT
BEGIN:VEVENT
DTSTART;TZID=UTC:20240803T210000
DTEND;TZID=UTC:20240803T210000
DTSTAMP:20260423T054543
CREATED:20240731T140806Z
LAST-MODIFIED:20240731T141404Z
UID:5015-1722718800-1722718800@caribbeanbar.org
SUMMARY:Sweet & Dandy Independence Celebration
DESCRIPTION:Purchase Tickets Today
URL:https://caribbeanbar.org/event/sweet-dandy-independence-celebration/
LOCATION:FL
CATEGORIES:General Event
ATTACH;FMTTYPE=image/jpeg:https://caribbeanbar.org/wp-content/uploads/2024/07/IMG-20240720-WA0024.jpg
END:VEVENT
BEGIN:VEVENT
DTSTART;TZID=UTC:20240803T100000
DTEND;TZID=UTC:20240803T160000
DTSTAMP:20260423T054543
CREATED:20240731T134805Z
LAST-MODIFIED:20240731T134805Z
UID:5008-1722679200-1722700800@caribbeanbar.org
SUMMARY:VBA Back 2 School Giveaway
DESCRIPTION:Donate Today
URL:https://caribbeanbar.org/event/vba-back-2-school-giveaway/
LOCATION:Attucks Middle School\, 3500 N 22nd Avenue\, Hollywood\, FL\, 33020\, United States
ATTACH;FMTTYPE=image/jpeg:https://caribbeanbar.org/wp-content/uploads/2024/07/IMG-20240729-WA0000.jpg
ORGANIZER;CN="CBA":MAILTO:caribbeanbarassociation@gmail.com
END:VEVENT
BEGIN:VEVENT
DTSTART;TZID=UTC:20240802T190000
DTEND;TZID=UTC:20240802T210000
DTSTAMP:20260423T054543
CREATED:20240731T135624Z
LAST-MODIFIED:20240731T140428Z
UID:5012-1722625200-1722632400@caribbeanbar.org
SUMMARY:Back 2 School Supply Distribution
DESCRIPTION: Click Here for Supplies Wish List 
URL:https://caribbeanbar.org/event/back-2-school-supply-distribution/
LOCATION:FL
CATEGORIES:General Event
ATTACH;FMTTYPE=image/jpeg:https://caribbeanbar.org/wp-content/uploads/2024/07/IMG-20240720-WA0023.jpg
END:VEVENT
BEGIN:VEVENT
DTSTART;TZID=UTC:20240730T100000
DTEND;TZID=UTC:20240730T170000
DTSTAMP:20260423T054543
CREATED:20240731T141128Z
LAST-MODIFIED:20240731T141311Z
UID:5018-1722333600-1722358800@caribbeanbar.org
SUMMARY:GEM Hurricane Beryl Relief Effort
DESCRIPTION:
URL:https://caribbeanbar.org/event/gem-hurricane-beryl-relief-effort/
LOCATION:Global Empowerment Mission HQ\, 1850 NW 84th Ave #100\, Doral\, FL\, 33126\, United States
ATTACH;FMTTYPE=image/jpeg:https://caribbeanbar.org/wp-content/uploads/2024/07/IMG_20240708_101914-1.jpg
ORGANIZER;CN="Global Empowerment Mission HQ":MAILTO:info@globalempowermentmission.org
END:VEVENT
BEGIN:VEVENT
DTSTART;TZID=UTC:20240719T173000
DTEND;TZID=UTC:20240719T193000
DTSTAMP:20260423T054543
CREATED:20240523T152729Z
LAST-MODIFIED:20240702T143821Z
UID:4949-1721410200-1721417400@caribbeanbar.org
SUMMARY:Taste of the Caribbean
DESCRIPTION:Register Today Taste of the Caribbean
URL:https://caribbeanbar.org/event/taste-of-the-caribbean-2/
LOCATION:BCBA Conference Center\, 1051 SE 3rd Avenue\, Fort Lauderdale\, FL\, 33316\, United States
CATEGORIES:Networking,Signature Event
ATTACH;FMTTYPE=image/jpeg:https://caribbeanbar.org/wp-content/uploads/2024/05/3.jpg
ORGANIZER;CN="CBA":MAILTO:caribbeanbarassociation@gmail.com
END:VEVENT
BEGIN:VEVENT
DTSTART;TZID=UTC:20240711T100000
DTEND;TZID=UTC:20240711T170000
DTSTAMP:20260423T054543
CREATED:20240711T132326Z
LAST-MODIFIED:20240711T132326Z
UID:5006-1720692000-1720717200@caribbeanbar.org
SUMMARY:VOLUNTEER & DONATE TO HURRICANE BERYL RELIEF
DESCRIPTION:
URL:https://caribbeanbar.org/event/volunteer-donate-to-hurricane-beryl-relief-4/
LOCATION:Global Empowerment Mission HQ\, 1850 NW 84th Ave #100\, Doral\, FL\, 33126\, United States
ATTACH;FMTTYPE=image/jpeg:https://caribbeanbar.org/wp-content/uploads/2024/07/IMG_20240708_101914-1.jpg
ORGANIZER;CN="Global Empowerment Mission HQ":MAILTO:info@globalempowermentmission.org
END:VEVENT
BEGIN:VEVENT
DTSTART;TZID=UTC:20240708T100000
DTEND;TZID=UTC:20240715T170000
DTSTAMP:20260423T054543
CREATED:20240706T151825Z
LAST-MODIFIED:20240708T144745Z
UID:5000-1720432800-1721062800@caribbeanbar.org
SUMMARY:VOLUNTEER & DONATE TO HURRICANE BERYL RELIEF
DESCRIPTION:Accepting Donations and Volunteers Now!
URL:https://caribbeanbar.org/event/volunteer-donate-to-hurricane-beryl-relief-3/
LOCATION:Global Empowerment Mission HQ\, 1850 NW 84th Ave #100\, Doral\, FL\, 33126\, United States
CATEGORIES:General Event
ATTACH;FMTTYPE=image/jpeg:https://caribbeanbar.org/wp-content/uploads/2024/07/IMG_20240708_101914-1.jpg
ORGANIZER;CN="Global Empowerment Mission HQ":MAILTO:info@globalempowermentmission.org
END:VEVENT
BEGIN:VEVENT
DTSTART;TZID=UTC:20240705T080000
DTEND;TZID=UTC:20240712T170000
DTSTAMP:20260423T054543
CREATED:20240705T154521Z
LAST-MODIFIED:20240705T154547Z
UID:4993-1720166400-1720803600@caribbeanbar.org
SUMMARY:Volunteer & Donate to Hurricane Beryl Relief
DESCRIPTION:
URL:https://caribbeanbar.org/event/volunteer-donate-to-hurricane-beryl-relief/
LOCATION:Global Empowerment Mission HQ\, 1850 NW 84th Ave #100\, Doral\, FL\, 33126\, United States
CATEGORIES:General Event
ATTACH;FMTTYPE=image/png:https://caribbeanbar.org/wp-content/uploads/2024/07/Hurricane-Beryl.png
ORGANIZER;CN="Global Empowerment Mission HQ":MAILTO:info@globalempowermentmission.org
END:VEVENT
BEGIN:VEVENT
DTSTART;VALUE=DATE:20240704
DTEND;VALUE=DATE:20240705
DTSTAMP:20260423T054543
CREATED:20240704T174425Z
LAST-MODIFIED:20240704T174448Z
UID:4990-1720051200-1720137599@caribbeanbar.org
SUMMARY:Happy Independence Day
DESCRIPTION:
URL:https://caribbeanbar.org/event/happy-independence-day/
LOCATION:FL
CATEGORIES:General Event
ATTACH;FMTTYPE=image/png:https://caribbeanbar.org/wp-content/uploads/2024/07/Screenshot-2024-07-04-133726.png
ORGANIZER;CN="CBA":MAILTO:caribbeanbarassociation@gmail.com
END:VEVENT
BEGIN:VEVENT
DTSTART;TZID=UTC:20240703T080000
DTEND;TZID=UTC:20240713T170000
DTSTAMP:20260423T054543
CREATED:20240706T151147Z
LAST-MODIFIED:20240706T151245Z
UID:4998-1719993600-1720890000@caribbeanbar.org
SUMMARY:VOLUNTEER & DONATE TO HURRICANE BERYL RELIEF
DESCRIPTION:
URL:https://caribbeanbar.org/event/volunteer-donate-to-hurricane-beryl-relief-2/
LOCATION:Global Empowerment Mission HQ\, 1850 NW 84th Ave #100\, Doral\, FL\, 33126\, United States
ATTACH;FMTTYPE=image/png:https://caribbeanbar.org/wp-content/uploads/2024/07/Hurricane-Beryl.png
ORGANIZER;CN="Global Empowerment Mission HQ":MAILTO:info@globalempowermentmission.org
END:VEVENT
BEGIN:VEVENT
DTSTART;TZID=UTC:20240629T130000
DTEND;TZID=UTC:20240629T160000
DTSTAMP:20260423T054543
CREATED:20240531T172243Z
LAST-MODIFIED:20240625T133158Z
UID:4964-1719666000-1719676800@caribbeanbar.org
SUMMARY:Eviction & Housing Clinic
DESCRIPTION:Volunteer Today
URL:https://caribbeanbar.org/event/eviction-housing-clinic/
LOCATION:West Regional Library\, 8601 West Broward Blvd.\, Fort Lauderdale\, FL\, 33324\, United States
CATEGORIES:Education,General Event,Signature Event
ATTACH;FMTTYPE=image/jpeg:https://caribbeanbar.org/wp-content/uploads/2024/05/Eviction-Housing-Clinic-Broward.jpg
ORGANIZER;CN="CBA":MAILTO:caribbeanbarassociation@gmail.com
END:VEVENT
BEGIN:VEVENT
DTSTART;TZID=UTC:20240530T173000
DTEND;TZID=UTC:20240530T200000
DTSTAMP:20260423T054543
CREATED:20240523T153531Z
LAST-MODIFIED:20240523T153531Z
UID:4953-1717090200-1717099200@caribbeanbar.org
SUMMARY:2024 Judicial Reception
DESCRIPTION:RSVP Here: 2024 Judicial Reception
URL:https://caribbeanbar.org/event/2024-judicial-reception/
LOCATION:Greenspoon Marder\, 200 East Broward Boulevard\, Suite 1800\, FL\, 33301\, United States
CATEGORIES:Education,General Event,Networking,Signature Event
ATTACH;FMTTYPE=image/jpeg:https://caribbeanbar.org/wp-content/uploads/2024/05/IMG-20240505-WA0004.jpg
END:VEVENT
BEGIN:VEVENT
DTSTART;TZID=UTC:20240221T180000
DTEND;TZID=UTC:20240221T200000
DTSTAMP:20260423T054543
CREATED:20240202T194953Z
LAST-MODIFIED:20240202T194953Z
UID:4900-1708538400-1708545600@caribbeanbar.org
SUMMARY:13th Annual Diversity Symposium
DESCRIPTION:RSVP Today at caribbeanbarassociation@gmail.com
URL:https://caribbeanbar.org/event/13th-annual-diversity-symposium/
LOCATION:White & Case\, LLP\, 200 South Biscayne Blvd. Suite 4900\, Miami\, FL\, 33137\, United States
CATEGORIES:Education,General Event,Networking,Signature Event
ATTACH;FMTTYPE=image/png:https://caribbeanbar.org/wp-content/uploads/2024/02/save-the-date-7.png
END:VEVENT
BEGIN:VEVENT
DTSTART;TZID=UTC:20240216T120000
DTEND;TZID=UTC:20240216T130000
DTSTAMP:20260423T054543
CREATED:20240202T183029Z
LAST-MODIFIED:20240202T183029Z
UID:4896-1708084800-1708088400@caribbeanbar.org
SUMMARY:Black History Month: A Celebration of Our Black Judges
DESCRIPTION:REGISTER TODAY!
URL:https://caribbeanbar.org/event/black-history-month-a-celebration-of-our-black-judges/
LOCATION:FL
CATEGORIES:Education,General Event,Networking
ATTACH;FMTTYPE=image/jpeg:https://caribbeanbar.org/wp-content/uploads/2024/02/Black-History-Month-A-Celebration-of-Our-Black-Judges.jpg
END:VEVENT
BEGIN:VEVENT
DTSTART;TZID=UTC:20231014T190000
DTEND;TZID=UTC:20231014T230000
DTSTAMP:20260423T054543
CREATED:20230906T184451Z
LAST-MODIFIED:20230906T184751Z
UID:4562-1697310000-1697324400@caribbeanbar.org
SUMMARY:Caribbean Bar Association: 2023 Scholarship Awards & Installation Gala
DESCRIPTION:The Caribbean Bar Association invites you to join us at our annual Scholarship Awards & Installation Gala. This year the theme of the Gala is “Amplify: Get Up\, Stand Up\, and Speak Up.” \nThe Gala will be held on October 14\, 2023 at the Seminole Hard Rock Hotel & Casino located at 1 Seminole Way\, Hollywood\, Florida 33314. The event will start at 7:00pm through 11:00pm. Early Bird tickets start at $200.00\, and will increase to $225.00 after September 15\, 2023. \nSecure your seat today! See you there.
URL:https://caribbeanbar.org/event/4562/
LOCATION:FL
CATEGORIES:Signature Event
ATTACH;FMTTYPE=image/jpeg:https://caribbeanbar.org/wp-content/uploads/2023/09/gala-2023-FINAL-FINAL.jpg
END:VEVENT
BEGIN:VEVENT
DTSTART;TZID=UTC:20230928T180000
DTEND;TZID=UTC:20230928T200000
DTSTAMP:20260423T054543
CREATED:20230914T144743Z
LAST-MODIFIED:20230914T145339Z
UID:4586-1695924000-1695931200@caribbeanbar.org
SUMMARY:Judicial Diversity Initiative: All Rise Ascending To The Bench Series (Part 1)
DESCRIPTION:  \nThe Caribbean Bar Association is proud to Co-host and sponsor the Judicial Diversity Initiative’s event\, All Rise: Ascending To The Bench Series (Part 1) occurring on September 28\, 2023 at 6:00pm held at the Holland & Knight office located at 515 Las Olas Blvd.\, Suite 1200\, Ft. Lauderdale\, Florida 33301. \nYou’ll have the opportunity to network with your peers and members of the judiciary\, and participate in the panel discussion. The reserve your spot click the link below and submit your RSVP! See you there. \nRSVP HERE: https://www.tjreddickbar.com/event-details/all-rise-ascending-to-the-bench-series-part-i
URL:https://caribbeanbar.org/event/4586/
LOCATION:FL
CATEGORIES:Networking
ATTACH;FMTTYPE=image/jpeg:https://caribbeanbar.org/wp-content/uploads/2023/09/cba-9.28.jpg
END:VEVENT
BEGIN:VEVENT
DTSTART;TZID=UTC:20230927T120000
DTEND;TZID=UTC:20230927T130000
DTSTAMP:20260423T054543
CREATED:20230914T144056Z
LAST-MODIFIED:20230914T144327Z
UID:4582-1695816000-1695819600@caribbeanbar.org
SUMMARY:General Body Meeting: Exploring Careers in ADR
DESCRIPTION:  \nJoin the Caribbean Bar Association at its General Body Meeting on September 27\, 2023 at Noon via zoom\, where you’ll learn about the various different careers in the Alternative Dispute Resolution space\, as well as have an opportunity to network with your peers. To  RSVP please email caribbeanbarassociation@gmail.com \nWe’re excited to see you there!
URL:https://caribbeanbar.org/event/4582/
LOCATION:FL
CATEGORIES:Education
ATTACH;FMTTYPE=image/jpeg:https://caribbeanbar.org/wp-content/uploads/2023/09/cba-9.27.jpg
END:VEVENT
BEGIN:VEVENT
DTSTART;TZID=UTC:20230913T053000
DTEND;TZID=UTC:20230913T203000
DTSTAMP:20260423T054543
CREATED:20230908T175156Z
LAST-MODIFIED:20230908T175159Z
UID:4575-1694583000-1694637000@caribbeanbar.org
SUMMARY:NOTA\, Trust Accounting Solutions\, and Networking Event
DESCRIPTION:Join members of the Caribbean Bar Association\, in collaboration with NOTA and our sister volunteer bar associations\, for a networking event hosted by NOTA on September 13\, 2023 at 5:30pm. Learn about Trust Account solutions while networking with your peers. \nThe event will be held at The Ft. Lauderdale Marriot Harbor Beach Resort & Spa located at 3030 Holiday Drive\, Ft. Lauderdale\, Florida 33316.
URL:https://caribbeanbar.org/event/nota-trust-accounting-solutions-and-networking-event/
LOCATION:FL
CATEGORIES:Networking
ATTACH;FMTTYPE=image/jpeg:https://caribbeanbar.org/wp-content/uploads/2023/09/CBa-newsletter-001.jpg
END:VEVENT
BEGIN:VEVENT
DTSTART;TZID=UTC:20230908T180000
DTEND;TZID=UTC:20230908T200000
DTSTAMP:20260423T054543
CREATED:20230908T173100Z
LAST-MODIFIED:20230908T173102Z
UID:4571-1694196000-1694203200@caribbeanbar.org
SUMMARY:CLSA WELCOME BACK EVENT
DESCRIPTION:  \nThe University of Miami Caribbean Law Student Association\, in collaboration with the Caribbean Bar Association\, is hosting its  Welcome Back event on September 8\, 2023 beginning at 6:00pm. The event will be held in the Student Lounge\, and is open to University of Miami students and Florida licensed attorneys. We look forward to seeing you there!
URL:https://caribbeanbar.org/event/clsa-welcome-back-event/
LOCATION:FL
CATEGORIES:Networking
ATTACH;FMTTYPE=image/jpeg:https://caribbeanbar.org/wp-content/uploads/2023/09/cbaum-1.jpeg
END:VEVENT
BEGIN:VEVENT
DTSTART;TZID=UTC:20230630T120000
DTEND;TZID=UTC:20230630T140000
DTSTAMP:20260423T054543
CREATED:20230608T024754Z
LAST-MODIFIED:20230608T031905Z
UID:4375-1688126400-1688133600@caribbeanbar.org
SUMMARY:Caribbean Bar Association Presents: Celebrating Our Roots & Honoring Our Heritage
DESCRIPTION:The Caribbean Bar Association is excited to announce that it will be hosting a celebratory event this Caribbean American Heritage Month honoring the judiciary of Caribbean descent for their contributions\, commitment and dedication to the Caribbean community. \nJoin us on June 30\, 2023 at noon for a fun and exciting time! You an RSVP at caribbeanbarassociation@gmail.com \n 
URL:https://caribbeanbar.org/event/caribbean-bar-association-presents-celebrating-our-roots-honoring-our-heritage/
LOCATION:Zoom
CATEGORIES:Virtual
ATTACH;FMTTYPE=image/jpeg:https://caribbeanbar.org/wp-content/uploads/2023/06/cba-website-pic-1.jpg
ORGANIZER;CN="CBA":MAILTO:caribbeanbarassociation@gmail.com
END:VEVENT
BEGIN:VEVENT
DTSTART;TZID=UTC:20230628T180000
DTEND;TZID=UTC:20230628T200000
DTSTAMP:20260423T054543
CREATED:20230619T144128Z
LAST-MODIFIED:20230619T144418Z
UID:4402-1687975200-1687982400@caribbeanbar.org
SUMMARY:Taste of the Caribbean: Celebrating Caribbean Heritage Month
DESCRIPTION:TASTE OF THE CARIBBEAN \nJUNE 28\, 2023 \nHISTORIC WARD ROOMING HOUSE \n249 NW 9TH STREET \nMIAMI\, FLORIDA 33136 \n 
URL:https://caribbeanbar.org/event/taste-of-the-caribbean/
LOCATION:HISTORIC WARD ROOMING HOUSE\, 249 NW 9TH STREET\, MIAMI\, FL\, 33136\, United States
ATTACH;FMTTYPE=image/jpeg:https://caribbeanbar.org/wp-content/uploads/2023/06/cba-12.jpeg
END:VEVENT
BEGIN:VEVENT
DTSTART;TZID=UTC:20230627T173000
DTEND;TZID=UTC:20230627T193000
DTSTAMP:20260423T054543
CREATED:20230619T145026Z
LAST-MODIFIED:20230619T150308Z
UID:4410-1687887000-1687894200@caribbeanbar.org
SUMMARY:Taste Of The Caribbean: Networking Island Style
DESCRIPTION:Taste Of The Caribbean: Networking Island Style \nJune 27\, 2023 \nBCBA Conference Center \n1051 SE THIRD AVENUE\, FT. LAUDERDALE\, FLORIDA 33316 \n5:30PM – 7:30PM \nREGISTRATION: $10.00 \nCLICK LINK TO REGISTER: https://www.browardbar.org/
URL:https://caribbeanbar.org/event/taste-of-the-caribbean-networking-island-style/
LOCATION:HISTORIC WARD ROOMING HOUSE\, 249 NW 9TH STREET\, MIAMI\, FL\, 33136\, United States
CATEGORIES:Networking
ATTACH;FMTTYPE=image/jpeg:https://caribbeanbar.org/wp-content/uploads/2023/06/cba-13.jpg
ORGANIZER;CN="CBA":MAILTO:caribbeanbarassociation@gmail.com
END:VEVENT
END:VCALENDAR