BEGIN:VCALENDAR
VERSION:2.0
PRODID:-//Caribbean Bar Association - ECPv6.15.20//NONSGML v1.0//EN
CALSCALE:GREGORIAN
METHOD:PUBLISH
X-WR-CALNAME:Caribbean Bar Association
X-ORIGINAL-URL:https://caribbeanbar.org
X-WR-CALDESC:Events for Caribbean Bar Association
REFRESH-INTERVAL;VALUE=DURATION:PT1H
X-Robots-Tag:noindex
X-PUBLISHED-TTL:PT1H
BEGIN:VTIMEZONE
TZID:UTC
BEGIN:STANDARD
TZOFFSETFROM:+0000
TZOFFSETTO:+0000
TZNAME:UTC
DTSTART:20210101T000000
END:STANDARD
END:VTIMEZONE
BEGIN:VEVENT
DTSTART;TZID=UTC:20250826T120000
DTEND;TZID=UTC:20250826T130000
DTSTAMP:20260423T091951
CREATED:20250813T143033Z
LAST-MODIFIED:20250813T143033Z
UID:5466-1756209600-1756213200@caribbeanbar.org
SUMMARY:Balancing the Mind & Professional Excellence CLE
DESCRIPTION:
URL:https://caribbeanbar.org/event/balancing-the-mind-professional-excellence-cle/
LOCATION:Zoom
CATEGORIES:Education,General Event,Virtual
ATTACH;FMTTYPE=image/jpeg:https://caribbeanbar.org/wp-content/uploads/2025/08/Mental-Health-CLE-3.jpg
ORGANIZER;CN="CBA":MAILTO:caribbeanbarassociation@gmail.com
END:VEVENT
BEGIN:VEVENT
DTSTART;TZID=UTC:20230630T120000
DTEND;TZID=UTC:20230630T140000
DTSTAMP:20260423T091951
CREATED:20230608T024754Z
LAST-MODIFIED:20230608T031905Z
UID:4375-1688126400-1688133600@caribbeanbar.org
SUMMARY:Caribbean Bar Association Presents: Celebrating Our Roots & Honoring Our Heritage
DESCRIPTION:The Caribbean Bar Association is excited to announce that it will be hosting a celebratory event this Caribbean American Heritage Month honoring the judiciary of Caribbean descent for their contributions\, commitment and dedication to the Caribbean community. \nJoin us on June 30\, 2023 at noon for a fun and exciting time! You an RSVP at caribbeanbarassociation@gmail.com \n 
URL:https://caribbeanbar.org/event/caribbean-bar-association-presents-celebrating-our-roots-honoring-our-heritage/
LOCATION:Zoom
CATEGORIES:Virtual
ATTACH;FMTTYPE=image/jpeg:https://caribbeanbar.org/wp-content/uploads/2023/06/cba-website-pic-1.jpg
ORGANIZER;CN="CBA":MAILTO:caribbeanbarassociation@gmail.com
END:VEVENT
BEGIN:VEVENT
DTSTART;TZID=UTC:20220824T140000
DTEND;TZID=UTC:20220824T150000
DTSTAMP:20260423T091951
CREATED:20220826T182357Z
LAST-MODIFIED:20220826T182357Z
UID:1559-1661349600-1661353200@caribbeanbar.org
SUMMARY:New American Taskforce: Newcomer Rapid Response Plan
DESCRIPTION:Please join the Office of New Americans in discussing a rapid response plan for Miami-Dade County’s incoming waves of migrants. \nhttps://officeofnewamericans-org.zoom.us/j/7654513016?pwd=d3VEU0ZZM0htMXFBelgrS2VSZlJIZz09 \nPlease feel free to forward this invitation to anyone who may be interested or relevant to this discussion. Please let me know if you have any questions and/or concerns. \nBest regards\, \nJuan Salcedo \nImmigration Integration Coordinator Office of New Americans (CAHSD)
URL:https://caribbeanbar.org/event/new-american-taskforce-newcomer-rapid-response-plan/
LOCATION:Zoom
CATEGORIES:Education,Virtual
END:VEVENT
END:VCALENDAR