BEGIN:VCALENDAR
VERSION:2.0
PRODID:-//Caribbean Bar Association - ECPv6.15.20//NONSGML v1.0//EN
CALSCALE:GREGORIAN
METHOD:PUBLISH
X-WR-CALNAME:Caribbean Bar Association
X-ORIGINAL-URL:https://caribbeanbar.org
X-WR-CALDESC:Events for Caribbean Bar Association
REFRESH-INTERVAL;VALUE=DURATION:PT1H
X-Robots-Tag:noindex
X-PUBLISHED-TTL:PT1H
BEGIN:VTIMEZONE
TZID:UTC
BEGIN:STANDARD
TZOFFSETFROM:+0000
TZOFFSETTO:+0000
TZNAME:UTC
DTSTART:20210101T000000
END:STANDARD
END:VTIMEZONE
BEGIN:VEVENT
DTSTART;TZID=UTC:20241026T190000
DTEND;TZID=UTC:20241026T230000
DTSTAMP:20260423T155521
CREATED:20240523T154445Z
LAST-MODIFIED:20240830T203502Z
UID:4958-1729969200-1729983600@caribbeanbar.org
SUMMARY:Annual Scholarship & Awards Gala
DESCRIPTION:Get Your Gala Tickets Today \nCBA 2024 Gala Sponsorship Form
URL:https://caribbeanbar.org/event/annual-scholarship-awards-gala/
LOCATION:Hard Rock Hotel & Casino\, 1 Seminole Way\, Hollywood\, FL\, 33314\, United States
CATEGORIES:Networking,Signature Event
ATTACH;FMTTYPE=image/jpeg:https://caribbeanbar.org/wp-content/uploads/2024/05/Gala-Flyer.jpg
ORGANIZER;CN="CBA":MAILTO:caribbeanbarassociation@gmail.com
END:VEVENT
BEGIN:VEVENT
DTSTART;TZID=UTC:20240719T173000
DTEND;TZID=UTC:20240719T193000
DTSTAMP:20260423T155521
CREATED:20240523T152729Z
LAST-MODIFIED:20240702T143821Z
UID:4949-1721410200-1721417400@caribbeanbar.org
SUMMARY:Taste of the Caribbean
DESCRIPTION:Register Today Taste of the Caribbean
URL:https://caribbeanbar.org/event/taste-of-the-caribbean-2/
LOCATION:BCBA Conference Center\, 1051 SE 3rd Avenue\, Fort Lauderdale\, FL\, 33316\, United States
CATEGORIES:Networking,Signature Event
ATTACH;FMTTYPE=image/jpeg:https://caribbeanbar.org/wp-content/uploads/2024/05/3.jpg
ORGANIZER;CN="CBA":MAILTO:caribbeanbarassociation@gmail.com
END:VEVENT
BEGIN:VEVENT
DTSTART;TZID=UTC:20240629T130000
DTEND;TZID=UTC:20240629T160000
DTSTAMP:20260423T155521
CREATED:20240531T172243Z
LAST-MODIFIED:20240625T133158Z
UID:4964-1719666000-1719676800@caribbeanbar.org
SUMMARY:Eviction & Housing Clinic
DESCRIPTION:Volunteer Today
URL:https://caribbeanbar.org/event/eviction-housing-clinic/
LOCATION:West Regional Library\, 8601 West Broward Blvd.\, Fort Lauderdale\, FL\, 33324\, United States
CATEGORIES:Education,General Event,Signature Event
ATTACH;FMTTYPE=image/jpeg:https://caribbeanbar.org/wp-content/uploads/2024/05/Eviction-Housing-Clinic-Broward.jpg
ORGANIZER;CN="CBA":MAILTO:caribbeanbarassociation@gmail.com
END:VEVENT
BEGIN:VEVENT
DTSTART;TZID=UTC:20240530T173000
DTEND;TZID=UTC:20240530T200000
DTSTAMP:20260423T155521
CREATED:20240523T153531Z
LAST-MODIFIED:20240523T153531Z
UID:4953-1717090200-1717099200@caribbeanbar.org
SUMMARY:2024 Judicial Reception
DESCRIPTION:RSVP Here: 2024 Judicial Reception
URL:https://caribbeanbar.org/event/2024-judicial-reception/
LOCATION:Greenspoon Marder\, 200 East Broward Boulevard\, Suite 1800\, FL\, 33301\, United States
CATEGORIES:Education,General Event,Networking,Signature Event
ATTACH;FMTTYPE=image/jpeg:https://caribbeanbar.org/wp-content/uploads/2024/05/IMG-20240505-WA0004.jpg
END:VEVENT
BEGIN:VEVENT
DTSTART;TZID=UTC:20240221T180000
DTEND;TZID=UTC:20240221T200000
DTSTAMP:20260423T155521
CREATED:20240202T194953Z
LAST-MODIFIED:20240202T194953Z
UID:4900-1708538400-1708545600@caribbeanbar.org
SUMMARY:13th Annual Diversity Symposium
DESCRIPTION:RSVP Today at caribbeanbarassociation@gmail.com
URL:https://caribbeanbar.org/event/13th-annual-diversity-symposium/
LOCATION:White & Case\, LLP\, 200 South Biscayne Blvd. Suite 4900\, Miami\, FL\, 33137\, United States
CATEGORIES:Education,General Event,Networking,Signature Event
ATTACH;FMTTYPE=image/png:https://caribbeanbar.org/wp-content/uploads/2024/02/save-the-date-7.png
END:VEVENT
BEGIN:VEVENT
DTSTART;TZID=UTC:20231014T190000
DTEND;TZID=UTC:20231014T230000
DTSTAMP:20260423T155521
CREATED:20230906T184451Z
LAST-MODIFIED:20230906T184751Z
UID:4562-1697310000-1697324400@caribbeanbar.org
SUMMARY:Caribbean Bar Association: 2023 Scholarship Awards & Installation Gala
DESCRIPTION:The Caribbean Bar Association invites you to join us at our annual Scholarship Awards & Installation Gala. This year the theme of the Gala is “Amplify: Get Up\, Stand Up\, and Speak Up.” \nThe Gala will be held on October 14\, 2023 at the Seminole Hard Rock Hotel & Casino located at 1 Seminole Way\, Hollywood\, Florida 33314. The event will start at 7:00pm through 11:00pm. Early Bird tickets start at $200.00\, and will increase to $225.00 after September 15\, 2023. \nSecure your seat today! See you there.
URL:https://caribbeanbar.org/event/4562/
LOCATION:FL
CATEGORIES:Signature Event
ATTACH;FMTTYPE=image/jpeg:https://caribbeanbar.org/wp-content/uploads/2023/09/gala-2023-FINAL-FINAL.jpg
END:VEVENT
BEGIN:VEVENT
DTSTART;TZID=UTC:20221022T190000
DTEND;TZID=UTC:20221022T210000
DTSTAMP:20260423T155521
CREATED:20220826T181608Z
LAST-MODIFIED:20220913T135433Z
UID:1555-1666465200-1666472400@caribbeanbar.org
SUMMARY:Caribbean Bar Association Scholarship Awards and Installation Gala
DESCRIPTION:The Caribbean Bar Association proudly presents its 2022 Scholarship Awards and Installation Gala on 10.22.22 at the @thewestinfortlauderdalebeach resort. \n\n“Phoenix Rising: A Time of Resilience”\n\n\n\nJoin us for an elegant evening celebrating the strength and achievements of Caribbean Community.\n\nKindly RSVP and BUY TICKETS here.\n 
URL:https://caribbeanbar.org/event/caribbean-bar-association-annual-gala/
LOCATION:Westin Fort Lauderdale Beach\, 3130 Granada Street\, Fort Lauderdale\, Florida
CATEGORIES:Signature Event
ATTACH;FMTTYPE=image/png:https://caribbeanbar.org/wp-content/uploads/2022/08/CBA-Gala-2022.png
ORGANIZER;CN="CBA":MAILTO:caribbeanbarassociation@gmail.com
END:VEVENT
END:VCALENDAR